Package: daMA Version: 1.79.0 Command: /home/biocbuild/R/R/bin/R CMD check --install=check:daMA.install-out.txt --library=/home/biocbuild/R/R/site-library --no-vignettes --timings daMA_1.79.0.tar.gz StartedAt: 2025-01-28 09:43:35 -0000 (Tue, 28 Jan 2025) EndedAt: 2025-01-28 09:44:01 -0000 (Tue, 28 Jan 2025) EllapsedTime: 26.0 seconds RetCode: 0 Status: OK CheckDir: daMA.Rcheck Warnings: 0