Package: daMA Version: 1.79.0 Command: /home/biocbuild/R/R/bin/R CMD build --keep-empty-dirs --no-resave-data daMA StartedAt: 2025-01-28 22:15:50 -0000 (Tue, 28 Jan 2025) EndedAt: 2025-01-28 22:15:52 -0000 (Tue, 28 Jan 2025) EllapsedTime: 2.0 seconds RetCode: 0 Status: OK PackageFile: daMA_1.79.0.tar.gz PackageFileSize: 4.026 MiB