Package: dStruct Version: 1.13.0 Command: /home/biocbuild/R/R/bin/R CMD INSTALL dStruct StartedAt: 2025-01-29 19:37:05 -0000 (Wed, 29 Jan 2025) EndedAt: 2025-01-29 19:37:10 -0000 (Wed, 29 Jan 2025) EllapsedTime: 4.7 seconds RetCode: 0 Status: OK