Package: dStruct Version: 1.13.0 Command: /home/biocbuild/R/R/bin/R CMD check --install=check:dStruct.install-out.txt --library=/home/biocbuild/R/R/site-library --no-vignettes --timings dStruct_1.13.0.tar.gz StartedAt: 2025-01-28 10:09:17 -0000 (Tue, 28 Jan 2025) EndedAt: 2025-01-28 10:10:59 -0000 (Tue, 28 Jan 2025) EllapsedTime: 102.1 seconds RetCode: 0 Status: OK CheckDir: dStruct.Rcheck Warnings: 0