Package: cytomapper Version: 1.19.0 Command: /Library/Frameworks/R.framework/Resources/bin/R CMD build --keep-empty-dirs --no-resave-data cytomapper StartedAt: 2025-01-31 16:03:58 -0500 (Fri, 31 Jan 2025) EndedAt: 2025-01-31 16:04:51 -0500 (Fri, 31 Jan 2025) EllapsedTime: 52.6 seconds RetCode: 0 Status: OK PackageFile: cytomapper_1.19.0.tar.gz PackageFileSize: 21.49 MiB