Package: cytolib Version: 2.19.3 Command: E:\biocbuild\bbs-3.21-bioc\R\bin\R.exe CMD INSTALL cytolib StartedAt: 2025-01-31 15:19:32 -0500 (Fri, 31 Jan 2025) EndedAt: 2025-01-31 15:31:53 -0500 (Fri, 31 Jan 2025) EllapsedTime: 741.1 seconds RetCode: 0 Status: OK