Package: cytolib Version: 2.19.3 Command: /Library/Frameworks/R.framework/Resources/bin/R CMD INSTALL cytolib StartedAt: 2025-01-31 15:12:31 -0500 (Fri, 31 Jan 2025) EndedAt: 2025-01-31 15:15:16 -0500 (Fri, 31 Jan 2025) EllapsedTime: 165.1 seconds RetCode: 0 Status: OK