Package: cytoMEM Version: 1.11.0 Command: rm -rf cytoMEM.buildbin-libdir && mkdir cytoMEM.buildbin-libdir && E:\biocbuild\bbs-3.21-bioc\R\bin\R.exe CMD INSTALL --build --library=cytoMEM.buildbin-libdir cytoMEM_1.11.0.tar.gz StartedAt: 2025-02-01 07:01:18 -0500 (Sat, 01 Feb 2025) EndedAt: 2025-02-01 07:01:39 -0500 (Sat, 01 Feb 2025) EllapsedTime: 20.5 seconds RetCode: 0 Status: OK PackageFile: cytoMEM_1.11.0.zip PackageFileSize: 2.993 MiB