Package: cypress Version: 1.3.0 Command: /home/biocbuild/bbs-3.21-bioc/R/bin/R CMD build --keep-empty-dirs --no-resave-data cypress StartedAt: 2025-01-31 16:54:42 -0500 (Fri, 31 Jan 2025) EndedAt: 2025-01-31 17:00:01 -0500 (Fri, 31 Jan 2025) EllapsedTime: 319.8 seconds RetCode: 0 Status: OK PackageFile: cypress_1.3.0.tar.gz PackageFileSize: 2.616 MiB