Package: cypress Version: 1.3.0 Command: /home/biocbuild/R/R/bin/R CMD INSTALL cypress StartedAt: 2025-01-29 20:26:25 -0000 (Wed, 29 Jan 2025) EndedAt: 2025-01-29 20:27:05 -0000 (Wed, 29 Jan 2025) EllapsedTime: 39.3 seconds RetCode: 0 Status: OK