Package: cummeRbund Version: 2.49.0 Command: /home/biocbuild/bbs-3.21-bioc/R/bin/R CMD INSTALL cummeRbund StartedAt: 2025-01-31 15:40:04 -0500 (Fri, 31 Jan 2025) EndedAt: 2025-01-31 15:41:03 -0500 (Fri, 31 Jan 2025) EllapsedTime: 59.0 seconds RetCode: 0 Status: OK