Package: cummeRbund Version: 2.49.0 Command: /Library/Frameworks/R.framework/Resources/bin/R CMD build --keep-empty-dirs --no-resave-data cummeRbund StartedAt: 2025-01-31 16:24:33 -0500 (Fri, 31 Jan 2025) EndedAt: 2025-01-31 16:26:36 -0500 (Fri, 31 Jan 2025) EllapsedTime: 122.3 seconds RetCode: 0 Status: OK PackageFile: cummeRbund_2.49.0.tar.gz PackageFileSize: 2.607 MiB