Package: ctc Version: 1.81.0 Command: /home/biocbuild/R/R/bin/R CMD INSTALL ctc StartedAt: 2025-01-29 19:29:35 -0000 (Wed, 29 Jan 2025) EndedAt: 2025-01-29 19:29:47 -0000 (Wed, 29 Jan 2025) EllapsedTime: 11.4 seconds RetCode: 0 Status: OK