Package: crisprViz Version: 1.9.0 Command: /home/biocbuild/bbs-3.21-bioc/R/bin/R CMD check --install=check:crisprViz.install-out.txt --library=/home/biocbuild/bbs-3.21-bioc/R/site-library --timings crisprViz_1.9.0.tar.gz StartedAt: 2025-02-02 21:13:35 -0500 (Sun, 02 Feb 2025) EndedAt: 2025-02-02 21:22:15 -0500 (Sun, 02 Feb 2025) EllapsedTime: 520.7 seconds RetCode: 0 Status: OK CheckDir: crisprViz.Rcheck Warnings: 0