Package: crisprViz Version: 1.9.0 Command: /home/biocbuild/bbs-3.21-bioc/R/bin/R CMD build --keep-empty-dirs --no-resave-data crisprViz StartedAt: 2025-02-02 16:46:46 -0500 (Sun, 02 Feb 2025) EndedAt: 2025-02-02 16:49:04 -0500 (Sun, 02 Feb 2025) EllapsedTime: 138.7 seconds RetCode: 0 Status: OK PackageFile: crisprViz_1.9.0.tar.gz PackageFileSize: 1.256 MiB