Package: crisprShiny Version: 1.3.0 Command: E:\biocbuild\bbs-3.21-bioc\R\bin\R.exe CMD INSTALL crisprShiny StartedAt: 2025-01-31 16:16:37 -0500 (Fri, 31 Jan 2025) EndedAt: 2025-01-31 16:17:45 -0500 (Fri, 31 Jan 2025) EllapsedTime: 67.5 seconds RetCode: 0 Status: OK