Package: crisprShiny Version: 1.3.0 Command: rm -rf crisprShiny.buildbin-libdir && mkdir crisprShiny.buildbin-libdir && E:\biocbuild\bbs-3.21-bioc\R\bin\R.exe CMD INSTALL --build --library=crisprShiny.buildbin-libdir crisprShiny_1.3.0.tar.gz StartedAt: 2025-02-01 06:59:42 -0500 (Sat, 01 Feb 2025) EndedAt: 2025-02-01 07:00:43 -0500 (Sat, 01 Feb 2025) EllapsedTime: 61.7 seconds RetCode: 0 Status: OK PackageFile: crisprShiny_1.3.0.zip PackageFileSize: 1.296 MiB