Package: crisprBowtie Version: 1.11.0 Command: E:\biocbuild\bbs-3.21-bioc\R\bin\R.exe CMD check --no-multiarch --install=check:crisprBowtie.install-out.txt --library=E:\biocbuild\bbs-3.21-bioc\R\library --no-vignettes --timings crisprBowtie_1.11.0.tar.gz StartedAt: 2025-01-31 23:45:28 -0500 (Fri, 31 Jan 2025) EndedAt: 2025-01-31 23:49:52 -0500 (Fri, 31 Jan 2025) EllapsedTime: 263.7 seconds RetCode: 0 Status: OK CheckDir: crisprBowtie.Rcheck Warnings: 0