Package: covEB Version: 1.33.0 Command: E:\biocbuild\bbs-3.21-bioc\R\bin\R.exe CMD INSTALL covEB StartedAt: 2025-01-31 15:25:52 -0500 (Fri, 31 Jan 2025) EndedAt: 2025-01-31 15:26:05 -0500 (Fri, 31 Jan 2025) EllapsedTime: 12.9 seconds RetCode: 0 Status: OK