Package: cosmosR Version: 1.15.0 Command: /home/biocbuild/R/R/bin/R CMD build --keep-empty-dirs --no-resave-data cosmosR StartedAt: 2025-01-28 22:07:57 -0000 (Tue, 28 Jan 2025) EndedAt: 2025-01-28 22:08:21 -0000 (Tue, 28 Jan 2025) EllapsedTime: 24.0 seconds RetCode: 0 Status: OK PackageFile: cosmosR_1.15.0.tar.gz PackageFileSize: 3.473 MiB