Package: convert Version: 1.83.0 Command: /Library/Frameworks/R.framework/Resources/bin/R CMD INSTALL convert StartedAt: 2025-01-31 15:02:49 -0500 (Fri, 31 Jan 2025) EndedAt: 2025-01-31 15:02:51 -0500 (Fri, 31 Jan 2025) EllapsedTime: 2.1 seconds RetCode: 0 Status: OK