Package: consensusDE Version: 1.25.0 Command: E:\biocbuild\bbs-3.21-bioc\R\bin\R.exe CMD check --no-multiarch --install=check:consensusDE.install-out.txt --library=E:\biocbuild\bbs-3.21-bioc\R\library --no-vignettes --timings consensusDE_1.25.0.tar.gz StartedAt: 2025-01-31 23:39:37 -0500 (Fri, 31 Jan 2025) EndedAt: 2025-01-31 23:45:41 -0500 (Fri, 31 Jan 2025) EllapsedTime: 363.7 seconds RetCode: 0 Status: OK CheckDir: consensusDE.Rcheck Warnings: 0