Package: consensusDE Version: 1.25.0 Command: chmod a+r consensusDE -R && E:\biocbuild\bbs-3.21-bioc\R\bin\R.exe CMD build --keep-empty-dirs --no-resave-data consensusDE StartedAt: 2025-01-31 17:53:10 -0500 (Fri, 31 Jan 2025) EndedAt: 2025-01-31 17:55:07 -0500 (Fri, 31 Jan 2025) EllapsedTime: 116.7 seconds RetCode: 0 Status: OK PackageFile: consensusDE_1.25.0.tar.gz PackageFileSize: 476.1 KiB