Package: consensusDE Version: 1.25.0 Command: /home/biocbuild/bbs-3.21-bioc/R/bin/R CMD check --install=check:consensusDE.install-out.txt --library=/home/biocbuild/bbs-3.21-bioc/R/site-library --timings consensusDE_1.25.0.tar.gz StartedAt: 2025-01-31 21:12:52 -0500 (Fri, 31 Jan 2025) EndedAt: 2025-01-31 21:18:53 -0500 (Fri, 31 Jan 2025) EllapsedTime: 361.5 seconds RetCode: 0 Status: OK CheckDir: consensusDE.Rcheck Warnings: 0