Package: consensusDE Version: 1.25.0 Command: /Library/Frameworks/R.framework/Resources/bin/R CMD build --keep-empty-dirs --no-resave-data consensusDE StartedAt: 2025-01-31 16:21:05 -0500 (Fri, 31 Jan 2025) EndedAt: 2025-01-31 16:22:37 -0500 (Fri, 31 Jan 2025) EllapsedTime: 91.4 seconds RetCode: 0 Status: OK PackageFile: consensusDE_1.25.0.tar.gz PackageFileSize: 1.043 MiB