Package: consensus Version: 1.25.0 Command: /home/biocbuild/bbs-3.21-bioc/R/bin/R CMD build --keep-empty-dirs --no-resave-data consensus StartedAt: 2025-01-31 16:48:48 -0500 (Fri, 31 Jan 2025) EndedAt: 2025-01-31 16:48:55 -0500 (Fri, 31 Jan 2025) EllapsedTime: 7.0 seconds RetCode: 0 Status: OK PackageFile: consensus_1.25.0.tar.gz PackageFileSize: 971 KiB