Package: condiments Version: 1.15.1 Command: /home/biocbuild/R/R/bin/R CMD build --keep-empty-dirs --no-resave-data condiments StartedAt: 2025-01-28 22:05:14 -0000 (Tue, 28 Jan 2025) EndedAt: 2025-01-28 22:09:47 -0000 (Tue, 28 Jan 2025) EllapsedTime: 273.1 seconds RetCode: 0 Status: OK PackageFile: condiments_1.15.1.tar.gz PackageFileSize: 1.391 MiB