Package: concordexR Version: 1.7.1 Command: /home/biocbuild/bbs-3.21-bioc/R/bin/R CMD build --keep-empty-dirs --no-resave-data concordexR StartedAt: 2025-01-31 16:48:38 -0500 (Fri, 31 Jan 2025) EndedAt: 2025-01-31 16:50:04 -0500 (Fri, 31 Jan 2025) EllapsedTime: 86.1 seconds RetCode: 0 Status: OK PackageFile: concordexR_1.7.1.tar.gz PackageFileSize: 1.5 MiB