Package: concordexR Version: 1.7.1 Command: /Library/Frameworks/R.framework/Resources/bin/R CMD INSTALL concordexR StartedAt: 2025-01-31 15:10:03 -0500 (Fri, 31 Jan 2025) EndedAt: 2025-01-31 15:10:13 -0500 (Fri, 31 Jan 2025) EllapsedTime: 9.9 seconds RetCode: 0 Status: OK