Package: concordexR Version: 1.7.1 Command: /Library/Frameworks/R.framework/Resources/bin/R CMD check --install=check:concordexR.install-out.txt --library=/Library/Frameworks/R.framework/Resources/library --no-vignettes --timings concordexR_1.7.1.tar.gz StartedAt: 2025-01-31 18:40:08 -0500 (Fri, 31 Jan 2025) EndedAt: 2025-01-31 18:41:38 -0500 (Fri, 31 Jan 2025) EllapsedTime: 90.0 seconds RetCode: 0 Status: OK CheckDir: concordexR.Rcheck Warnings: 0