Package: compEpiTools Version: 1.41.0 Command: E:\biocbuild\bbs-3.21-bioc\R\bin\R.exe CMD INSTALL compEpiTools StartedAt: 2025-01-31 16:14:30 -0500 (Fri, 31 Jan 2025) EndedAt: 2025-01-31 16:16:03 -0500 (Fri, 31 Jan 2025) EllapsedTime: 92.7 seconds RetCode: 0 Status: OK