Package: compEpiTools Version: 1.41.0 Command: /Library/Frameworks/R.framework/Resources/bin/R CMD INSTALL compEpiTools StartedAt: 2025-01-31 15:33:28 -0500 (Fri, 31 Jan 2025) EndedAt: 2025-01-31 15:34:44 -0500 (Fri, 31 Jan 2025) EllapsedTime: 76.0 seconds RetCode: 0 Status: OK