Package: compEpiTools Version: 1.41.0 Command: /Library/Frameworks/R.framework/Resources/bin/R CMD build --keep-empty-dirs --no-resave-data compEpiTools StartedAt: 2025-01-31 16:20:06 -0500 (Fri, 31 Jan 2025) EndedAt: 2025-01-31 16:21:43 -0500 (Fri, 31 Jan 2025) EllapsedTime: 97.0 seconds RetCode: 0 Status: OK PackageFile: compEpiTools_1.41.0.tar.gz PackageFileSize: 2.166 MiB