Package: comapr Version: 1.11.1 Command: /Library/Frameworks/R.framework/Resources/bin/R CMD build --keep-empty-dirs --no-resave-data comapr StartedAt: 2025-01-31 16:19:37 -0500 (Fri, 31 Jan 2025) EndedAt: 2025-01-31 16:21:10 -0500 (Fri, 31 Jan 2025) EllapsedTime: 92.4 seconds RetCode: 0 Status: OK PackageFile: comapr_1.11.1.tar.gz PackageFileSize: 975.1 KiB