Package: coRdon Version: 1.25.0 Command: /home/biocbuild/R/R/bin/R CMD check --install=check:coRdon.install-out.txt --library=/home/biocbuild/R/R/site-library --no-vignettes --timings coRdon_1.25.0.tar.gz StartedAt: 2025-01-28 09:27:27 -0000 (Tue, 28 Jan 2025) EndedAt: 2025-01-28 09:29:47 -0000 (Tue, 28 Jan 2025) EllapsedTime: 140.1 seconds RetCode: 0 Status: OK CheckDir: coRdon.Rcheck Warnings: 0