Package: coGPS Version: 1.51.0 Command: /home/biocbuild/bbs-3.21-bioc/R/bin/R CMD INSTALL coGPS StartedAt: 2025-01-31 15:09:21 -0500 (Fri, 31 Jan 2025) EndedAt: 2025-01-31 15:09:31 -0500 (Fri, 31 Jan 2025) EllapsedTime: 9.4 seconds RetCode: 0 Status: OK