Package: coGPS Version: 1.51.0 Command: /home/biocbuild/R/R/bin/R CMD INSTALL coGPS StartedAt: 2025-01-29 19:30:44 -0000 (Wed, 29 Jan 2025) EndedAt: 2025-01-29 19:31:14 -0000 (Wed, 29 Jan 2025) EllapsedTime: 30.1 seconds RetCode: 0 Status: OK