Package: cnvGSA Version: 1.51.0 Command: E:\biocbuild\bbs-3.21-bioc\R\bin\R.exe CMD check --no-multiarch --install=check:cnvGSA.install-out.txt --library=E:\biocbuild\bbs-3.21-bioc\R\library --no-vignettes --timings cnvGSA_1.51.0.tar.gz StartedAt: 2025-01-31 23:32:06 -0500 (Fri, 31 Jan 2025) EndedAt: 2025-01-31 23:33:34 -0500 (Fri, 31 Jan 2025) EllapsedTime: 88.1 seconds RetCode: 0 Status: OK CheckDir: cnvGSA.Rcheck Warnings: 0