Package: cnvGSA Version: 1.51.0 Command: /home/biocbuild/R/R/bin/R CMD check --install=check:cnvGSA.install-out.txt --library=/home/biocbuild/R/R/site-library --no-vignettes --timings cnvGSA_1.51.0.tar.gz StartedAt: 2025-01-28 09:19:49 -0000 (Tue, 28 Jan 2025) EndedAt: 2025-01-28 09:21:14 -0000 (Tue, 28 Jan 2025) EllapsedTime: 85.1 seconds RetCode: 0 Status: OK CheckDir: cnvGSA.Rcheck Warnings: 0