Package: clusterStab Version: 1.79.0 Command: E:\biocbuild\bbs-3.21-bioc\R\bin\R.exe CMD check --no-multiarch --install=check:clusterStab.install-out.txt --library=E:\biocbuild\bbs-3.21-bioc\R\library --no-vignettes --timings clusterStab_1.79.0.tar.gz StartedAt: 2025-02-02 23:41:08 -0500 (Sun, 02 Feb 2025) EndedAt: 2025-02-02 23:41:43 -0500 (Sun, 02 Feb 2025) EllapsedTime: 34.3 seconds RetCode: 0 Status: OK CheckDir: clusterStab.Rcheck Warnings: 0