Package: clusterSeq Version: 1.31.0 Command: E:\biocbuild\bbs-3.21-bioc\R\bin\R.exe CMD INSTALL clusterSeq StartedAt: 2025-01-31 15:37:20 -0500 (Fri, 31 Jan 2025) EndedAt: 2025-01-31 15:37:39 -0500 (Fri, 31 Jan 2025) EllapsedTime: 18.9 seconds RetCode: 0 Status: OK