Package: clusterProfiler Version: 4.15.1 Command: /home/biocbuild/bbs-3.21-bioc/R/bin/R CMD INSTALL clusterProfiler StartedAt: 2025-01-31 15:46:39 -0500 (Fri, 31 Jan 2025) EndedAt: 2025-01-31 15:47:04 -0500 (Fri, 31 Jan 2025) EllapsedTime: 24.1 seconds RetCode: 0 Status: OK