Package: clusterProfiler Version: 4.15.1 Command: /home/biocbuild/R/R/bin/R CMD INSTALL clusterProfiler StartedAt: 2025-01-29 20:18:17 -0000 (Wed, 29 Jan 2025) EndedAt: 2025-01-29 20:18:50 -0000 (Wed, 29 Jan 2025) EllapsedTime: 33.0 seconds RetCode: 0 Status: OK