Package: clusterExperiment Version: 2.27.0 Command: rm -rf clusterExperiment.buildbin-libdir && mkdir clusterExperiment.buildbin-libdir && E:\biocbuild\bbs-3.21-bioc\R\bin\R.exe CMD INSTALL --build --library=clusterExperiment.buildbin-libdir clusterExperiment_2.27.0.tar.gz StartedAt: 2025-02-01 06:55:43 -0500 (Sat, 01 Feb 2025) EndedAt: 2025-02-01 07:07:26 -0500 (Sat, 01 Feb 2025) EllapsedTime: 702.7 seconds RetCode: 0 Status: OK PackageFile: clusterExperiment_2.27.0.zip PackageFileSize: 9.019 MiB