Package: clstutils Version: 1.55.0 Command: rm -rf clstutils.buildbin-libdir && mkdir clstutils.buildbin-libdir && /Users/biocbuild/BBS/utils/build-universal.sh clstutils_1.55.0.tar.gz /Library/Frameworks/R.framework/Resources/bin/R clstutils.buildbin-libdir StartedAt: 2025-01-31 22:11:40 -0500 (Fri, 31 Jan 2025) EndedAt: 2025-01-31 22:11:43 -0500 (Fri, 31 Jan 2025) EllapsedTime: 3.1 seconds RetCode: 0 Status: OK PackageFile: clstutils_1.55.0.tgz PackageFileSize: 2.728 MiB