Package: cliqueMS Version: 1.21.0 Command: /Library/Frameworks/R.framework/Resources/bin/R CMD check --install=check:cliqueMS.install-out.txt --library=/Library/Frameworks/R.framework/Resources/library --no-vignettes --timings cliqueMS_1.21.0.tar.gz StartedAt: 2025-01-31 19:28:54 -0500 (Fri, 31 Jan 2025) EndedAt: 2025-01-31 19:35:14 -0500 (Fri, 31 Jan 2025) EllapsedTime: 380.0 seconds RetCode: 0 Status: WARNINGS CheckDir: cliqueMS.Rcheck Warnings: 1