Package: clippda Version: 1.57.0 Command: E:\biocbuild\bbs-3.21-bioc\R\bin\R.exe CMD check --no-multiarch --install=check:clippda.install-out.txt --library=E:\biocbuild\bbs-3.21-bioc\R\library --no-vignettes --timings clippda_1.57.0.tar.gz StartedAt: 2025-02-02 23:37:04 -0500 (Sun, 02 Feb 2025) EndedAt: 2025-02-02 23:41:04 -0500 (Sun, 02 Feb 2025) EllapsedTime: 240.2 seconds RetCode: 0 Status: OK CheckDir: clippda.Rcheck Warnings: 0