Package: cliProfiler Version: 1.13.0 Command: E:\biocbuild\bbs-3.21-bioc\R\bin\R.exe CMD INSTALL cliProfiler StartedAt: 2025-01-31 16:02:12 -0500 (Fri, 31 Jan 2025) EndedAt: 2025-01-31 16:02:56 -0500 (Fri, 31 Jan 2025) EllapsedTime: 44.3 seconds RetCode: 0 Status: OK