Package: cliProfiler Version: 1.13.0 Command: rm -rf cliProfiler.buildbin-libdir && mkdir cliProfiler.buildbin-libdir && E:\biocbuild\bbs-3.21-bioc\R\bin\R.exe CMD INSTALL --build --library=cliProfiler.buildbin-libdir cliProfiler_1.13.0.tar.gz StartedAt: 2025-02-01 06:55:20 -0500 (Sat, 01 Feb 2025) EndedAt: 2025-02-01 06:56:04 -0500 (Sat, 01 Feb 2025) EllapsedTime: 43.4 seconds RetCode: 0 Status: OK PackageFile: cliProfiler_1.13.0.zip PackageFileSize: 692.1 KiB