Package: cleanUpdTSeq Version: 1.45.1 Command: /home/biocbuild/bbs-3.21-bioc/R/bin/R CMD build --keep-empty-dirs --no-resave-data cleanUpdTSeq StartedAt: 2025-01-31 16:42:29 -0500 (Fri, 31 Jan 2025) EndedAt: 2025-01-31 16:43:49 -0500 (Fri, 31 Jan 2025) EllapsedTime: 80.1 seconds RetCode: 0 Status: OK PackageFile: cleanUpdTSeq_1.45.1.tar.gz PackageFileSize: 4.008 MiB